BEGIN:VCALENDAR
VERSION:2.0
PRODID:-//San Augustine Public Library - ECPv6.15.20//NONSGML v1.0//EN
CALSCALE:GREGORIAN
METHOD:PUBLISH
X-WR-CALNAME:San Augustine Public Library
X-ORIGINAL-URL:https://salibrary.org
X-WR-CALDESC:Events for San Augustine Public Library
REFRESH-INTERVAL;VALUE=DURATION:PT1H
X-Robots-Tag:noindex
X-PUBLISHED-TTL:PT1H
BEGIN:VTIMEZONE
TZID:UTC
BEGIN:STANDARD
TZOFFSETFROM:+0000
TZOFFSETTO:+0000
TZNAME:UTC
DTSTART:20230101T000000
END:STANDARD
END:VTIMEZONE
BEGIN:VEVENT
DTSTART;TZID=UTC:20241223T090000
DTEND;TZID=UTC:20241223T133000
DTSTAMP:20260422T030000
CREATED:20241219T011956Z
LAST-MODIFIED:20241220T222025Z
UID:3390-1734944400-1734960600@salibrary.org
SUMMARY:Blood Drive
DESCRIPTION:San Augustine County Chamber of Commerce is hosting a blood drive. \nMonday\, December 23 \n9:00 am – 1:30 pm \nThe Donor Coach will be set up in the Chamber of Commerce  parking lot. \n 
URL:https://salibrary.org/calendarevent/blood-drive-2/
LOCATION:San Augustine Chamber of Commerce\, 611 W. Columbia St\, San Augustine\, 75972\, United States
CATEGORIES:Blood Drive,Public Event
ATTACH;FMTTYPE=image/jpeg:https://salibrary.org/wp-content/uploads/2024/12/DOC-images-1-scaled.jpg
ORGANIZER;CN="San Augustine Chamber of Commerce":MAILTO:saccc611@gmail.com
END:VEVENT
END:VCALENDAR